BEGIN:VCALENDAR
PRODID:-//kirchenweb.ch gmbh//veranstaltungsausgabe v2.0//DE
VERSION:2.0
METHOD:PUBLISH
BEGIN:VEVENT
DTSTART:20270104T123000Z
DTEND:20270104T150000Z
LOCATION:Pfarreizentrum\, Zumhofstr. 2\, 6048 Horw
TRANSP:OPAQUE
SEQUENCE:0
UID:26126-veranstaltung@kathhorw.ch
DTSTAMP:20260402T134147Z
DESCRIPTION:Kontakt: pf.amt@kathhorw.ch\n\nWeitere Infos:
  https://www.kathhorw.ch/veranstaltung/26126
SUMMARY:Frauengemeinschaft - Strick-Café
PRIORITY:5
X-MICROSOFT-CDO-IMPORTANCE:1
CLASS:PUBLIC
END:VEVENT
END:VCALENDAR
