BEGIN:VCALENDAR
PRODID:-//kirchenweb.ch gmbh//veranstaltungsausgabe v2.0//DE
VERSION:2.0
METHOD:PUBLISH
BEGIN:VEVENT
DTSTART:20270113T183000Z
DTEND:20270113T194500Z
LOCATION:Zentrumskapelle\, Zumhofstr. 2\, 6048 Horw
TRANSP:OPAQUE
SEQUENCE:0
UID:26107-veranstaltung@kathhorw.ch
DTSTAMP:20260401T085024Z
DESCRIPTION:Alle sind zum Mitsingen eingeladen. \nRegelmässige oder
  gelegentliche Teilnahme möglich.\nKeine Vorkenntnisse nötig.\n\n19:30 
  Wir üben gemeinsam die mehrstimmigen Gesänge\, mehrheitlich
  Taizélieder.\n20:00  Wir zünden Kerzen an und singen die Gesänge im
  Rahmen einer kleinen meditativen Feier.\n\nKontakt und Auskunft 
 \nPhilippe Frey	\nphilfrey01@gmail.com \n\n\n\n\nKontakt: Philippe Frey\n
 \nWeitere Infos: https://www.kathhorw.ch/veranstaltung/26107
SUMMARY:Singen und Feiern
PRIORITY:5
X-MICROSOFT-CDO-IMPORTANCE:1
CLASS:PUBLIC
END:VEVENT
END:VCALENDAR
