BEGIN:VCALENDAR
PRODID:-//kirchenweb.ch gmbh//veranstaltungsausgabe v2.0//DE
VERSION:2.0
METHOD:PUBLISH
BEGIN:VEVENT
DTSTART:20270424T093000Z
DTEND:20270424T103000Z
LOCATION:Pfarrkirche  St. Katharina\, Zumhofstrasse\, 6048 Horw
TRANSP:OPAQUE
SEQUENCE:0
UID:25924-veranstaltung@kathhorw.ch
DTSTAMP:20260318T072020Z
DESCRIPTION:Kontakt: Pfarreisekretariat\n\nWeitere Infos:
  https://www.kathhorw.ch/veranstaltung/25924
SUMMARY:Tauftermin
PRIORITY:5
X-MICROSOFT-CDO-IMPORTANCE:1
CLASS:PUBLIC
END:VEVENT
END:VCALENDAR
