BEGIN:VCALENDAR
PRODID:-//kirchenweb.ch gmbh//veranstaltungsausgabe v2.0//DE
VERSION:2.0
METHOD:PUBLISH
BEGIN:VEVENT
DTSTART:20260403T113000Z
DTEND:20260403T123000Z
LOCATION:Pfarrkirche  St. Katharina\, \,
TRANSP:OPAQUE
SEQUENCE:0
UID:25396-veranstaltung@kathhorw.ch
DTSTAMP:20260402T085834Z
DESCRIPTION:Kontakt: benedikt.wey@kathhorw.ch\n\nWeitere Infos:
  https://www.kathhorw.ch/veranstaltung/25396
SUMMARY:Vorprobe KiChöre
PRIORITY:5
X-MICROSOFT-CDO-IMPORTANCE:1
CLASS:PUBLIC
END:VEVENT
END:VCALENDAR
