BEGIN:VCALENDAR
PRODID:-//kirchenweb.ch gmbh//veranstaltungsausgabe v2.0//DE
VERSION:2.0
METHOD:PUBLISH
BEGIN:VEVENT
DTSTART:20260426T120000Z
DTEND:20260426T150000Z
LOCATION:Kloster Wesemlin\, Wesemlinstrasse 42\, 6006 Luzern
TRANSP:OPAQUE
SEQUENCE:0
UID:24858-veranstaltung@kathhorw.ch
DTSTAMP:20260415T201234Z
DESCRIPTION:Der GAMERS POINT macht mehrmals jährlich einen Ausflug ins
  einzigartige Kloster Wesemlin um dort im mittelalterlichen Refektorium
  (Speisesaal) einen Nachmittag mit Gesellschaftsspielen anzubieten. Die
  Spiele sind eher anspruchsvoll und geeignet für ein Mindestalter von 10
  Jahren.\n\nDer Schwerpunkt liegt auf dem ausgezeichneten Brettspiel
  Sagrada\, bei welchem mit einem ausgeklügelten Spielmechanismus
  Kirchenfenster gebaut werden. Für Vielspieler stehen Erweiterungen zur
  Verfügung. Neben einer grossen Brettspiel-Sammlung zum Thema Kirchen\,
  Klöster & Rom Antike warten auch Klassiker wie Domino\, Schach\,
  Heiligenjass\, Bibelthriller oder Siedler von Catan. Fans von
  Sammelkartenspielen und Fantasy-Rollenspiele wie Dungeons & Dragons sind
  herzlich willkommen und für sie steht ein Spieltisch bereit. \n
 \nWährend und nach den Spielen können wir den Tag mit Kaffee und Kuchen
  (Unkostenbeitrag durch Kollekte) sowie interessanten Gesprächen
  abrunden.\n
 \nhttps://www.gamerspoint.ch/event/kloster-wesemlin-spiel-nachmittag-im-sp
 eisesaal/2026-04-26/\n\nTreffpunkt ist im Kloster oder auf Anmeldung
  (siehe unten) ist eine begleitete Anreise ab Horw Zentrum möglich.\n
 \nJugendarbeiter Dave Büttler wird bereits vorher im Kloster sein und
  zusammen mit Guardian Br. George alle Spiele bereitstellen.\n\nKontakt:
  041 429 67 55\n\nWeitere Infos:
  https://www.kathhorw.ch/veranstaltung/24858
SUMMARY:GAMERS POINT Spielnachmittag im Kloster Wesemlin
PRIORITY:5
X-MICROSOFT-CDO-IMPORTANCE:1
CLASS:PUBLIC
END:VEVENT
END:VCALENDAR
