BEGIN:VCALENDAR
PRODID:-//kirchenweb.ch gmbh//veranstaltungsausgabe v2.0//DE
VERSION:2.0
METHOD:PUBLISH
BEGIN:VEVENT
DTSTART:20260404T140000Z
DTEND:20260404T150000Z
LOCATION:Kirchfeld \, \,
TRANSP:OPAQUE
SEQUENCE:0
UID:24846-veranstaltung@kathhorw.ch
DTSTAMP:20260219T112450Z
DESCRIPTION:Kontakt: Benedikt Wey\n\nWeitere Infos:
  https://www.kathhorw.ch/veranstaltung/24846
SUMMARY:Kirchfeld - Osterfeier
PRIORITY:5
X-MICROSOFT-CDO-IMPORTANCE:1
CLASS:PUBLIC
END:VEVENT
END:VCALENDAR
