BEGIN:VCALENDAR
PRODID:-//kirchenweb.ch gmbh//veranstaltungsausgabe v2.0//DE
VERSION:2.0
METHOD:PUBLISH
BEGIN:VEVENT
DTSTART:20260425T140000Z
DTEND:20260425T210000Z
LOCATION:Pfarreizentrum\, \,
TRANSP:OPAQUE
SEQUENCE:0
UID:24431-veranstaltung@kathhorw.ch
DTSTAMP:20260122T122735Z
DESCRIPTION:Der Treff wird durch junge GAMERS POINT Leiter (Jugendliche
  und junge Erwachsene) geleitet\, mehrheitlich ist dies GP Leiter Mario
  Antoniutti (079 473 66 75). Die GP Hauptleitung\, Jugendarbeiter Dave
  Büttler (076 475 43 75)\, ist nur unregelmässig anwesend\,
  beispielsweise für Spieleinführungen.\n\nDer GAMERS POINT ist KEIN
  Jugendtreff zum Abhängen und am Handy zocken\, sondern ausschliesslich
  zum AKTIVEN Spielen von Gesellschaftsspielen. Es sind gelegentlich auch
  Videospiel-Turniere möglich (z.B. Super Smash Bros. Nintendo Switch mit
  mehreren Monitoren).\n\nEs sind alle Teenager\, Jugendlichen und jungen
  Erwachsenen willkommen aus Horw und von ausserhalb. Teilnahmebedingungen
  sind Freundlichkeit\, Spielfreude und das Einhalten aller Regeln\, z.B.
  sich an die Anweisungen der Leitungsperson halten\, Sorge zum Material
  tragen\, Mithilfe beim Aufräumen\, respektvoller Umgang mit allen
  Teilnehmenden\, keine Störungen von Mitspielenden etc. \n\nInfos\, Fotos
  & Agenda auf https://www.gamerspoint.ch/\n\nKontakt: Junge GP-Leiter &
  Jugendarbeiter Dave Büttler\n\nWeitere Infos:
  https://www.kathhorw.ch/veranstaltung/24431
SUMMARY:GAMERS POINT - Samstag
PRIORITY:5
X-MICROSOFT-CDO-IMPORTANCE:1
CLASS:PUBLIC
END:VEVENT
END:VCALENDAR
