BEGIN:VCALENDAR
PRODID:-//kirchenweb.ch gmbh//veranstaltungsausgabe v2.0//DE
VERSION:2.0
METHOD:PUBLISH
BEGIN:VEVENT
DTSTART:20260509T160000Z
DTEND:20260509T200000Z
LOCATION:Pfarreizentrum\, Zumhofstr. 2\, 6048 Horw
TRANSP:OPAQUE
SEQUENCE:0
UID:24361-veranstaltung@kathhorw.ch
DTSTAMP:20260402T121248Z
DESCRIPTION:Kontakt: Jungwacht Horw\nTimon Chiappori\n\nBodenmattstrasse
  10\n6048 Horw\n077 441 89 87\ntimon.chiappori@bluewin.ch\n\n\n\nWeitere
  Infos: https://www.kathhorw.ch/veranstaltung/24361
SUMMARY:Jungwacht/Blauring - Gala Nigth
PRIORITY:5
X-MICROSOFT-CDO-IMPORTANCE:1
CLASS:PUBLIC
END:VEVENT
END:VCALENDAR
