BEGIN:VCALENDAR
PRODID:-//kirchenweb.ch gmbh//veranstaltungsausgabe v2.0//DE
VERSION:2.0
METHOD:PUBLISH
BEGIN:VEVENT
DTSTART:20260525T073000Z
DTEND:20260525T083000Z
LOCATION:Pfarrkirche  St. Katharina\, \,
TRANSP:OPAQUE
SEQUENCE:0
UID:23336-veranstaltung@kathhorw.ch
DTSTAMP:20260401T084845Z
DESCRIPTION:Kontakt: Benedikt Wey\n\nWeitere Infos:
  https://www.kathhorw.ch/veranstaltung/23336
SUMMARY:Gottesdienst - Pfingstmontag
PRIORITY:5
X-MICROSOFT-CDO-IMPORTANCE:1
CLASS:PUBLIC
END:VEVENT
END:VCALENDAR
