BEGIN:VCALENDAR
PRODID:-//kirchenweb.ch gmbh//veranstaltungsausgabe v2.0//DE
VERSION:2.0
METHOD:PUBLISH
BEGIN:VEVENT
DTSTART:20260514T083000Z
DTEND:20260514T093000Z
LOCATION:Pfarrkirche  St. Katharina\, \,
TRANSP:OPAQUE
SEQUENCE:0
UID:22771-veranstaltung@kathhorw.ch
DTSTAMP:20260407T074834Z
DESCRIPTION:Kontakt: info.kathhorw.ch\n\nWeitere Infos:
  https://www.kathhorw.ch/veranstaltung/22771
SUMMARY:Gottesdienst - Christi Himmelfahrt
PRIORITY:5
X-MICROSOFT-CDO-IMPORTANCE:1
CLASS:PUBLIC
END:VEVENT
END:VCALENDAR
