BEGIN:VCALENDAR
PRODID:-//kirchenweb.ch gmbh//veranstaltungsausgabe v2.0//DE
VERSION:2.0
METHOD:PUBLISH
BEGIN:VEVENT
DTSTART:20260406T073000Z
DTEND:20260406T083000Z
LOCATION:Pfarrkirche  St. Katharina\, Zumhofstrasse\, 6048 Horw
TRANSP:OPAQUE
SEQUENCE:0
UID:22765-veranstaltung@kathhorw.ch
DTSTAMP:20260330T080846Z
DESCRIPTION:Kontakt: info.kathhorw.ch\n\nWeitere Infos:
  https://www.kathhorw.ch/veranstaltung/22765
SUMMARY:Gottesdienst - Ostermontag
PRIORITY:5
X-MICROSOFT-CDO-IMPORTANCE:1
CLASS:PUBLIC
END:VEVENT
END:VCALENDAR
