BEGIN:VCALENDAR
PRODID:-//kirchenweb.ch gmbh//veranstaltungsausgabe v2.0//DE
VERSION:2.0
METHOD:PUBLISH
BEGIN:VEVENT
DTSTART:20260506T160000Z
DTEND:20260506T170000Z
LOCATION:Dreikönigskapelle Winkel\, Winkelried\, 6048 Horw
TRANSP:OPAQUE
SEQUENCE:0
UID:22756-veranstaltung@kathhorw.ch
DTSTAMP:20260407T074345Z
DESCRIPTION:Maiandacht\n\nKontakt: Pfarreisekretariat\n\nWeitere Infos:
  https://www.kathhorw.ch/veranstaltung/22756
SUMMARY:Gottesdienst - Winkelkapelle
PRIORITY:5
X-MICROSOFT-CDO-IMPORTANCE:1
CLASS:PUBLIC
END:VEVENT
END:VCALENDAR
