BEGIN:VCALENDAR
PRODID:-//kirchenweb.ch gmbh//veranstaltungsausgabe v2.0//DE
VERSION:2.0
METHOD:PUBLISH
BEGIN:VEVENT
DTSTART:20260510T083000Z
DTEND:20260510T093000Z
LOCATION:Pfarrkirche  St. Katharina\, Zumhofstrasse\, 6048 Horw
TRANSP:OPAQUE
SEQUENCE:0
UID:21885-veranstaltung@kathhorw.ch
DTSTAMP:20260407T083158Z
DESCRIPTION:Der Familiengottesdienst zum Muttertag am 10. Mai feiern wir
  unter dem Motto "Medien-Segnung". Begleitet wird er von
  Saxophon-Klängen.\n\nMedien sind ein immerwährendes Thema in allen
  Familien und auch bei Alleinstehenden. Sie sind heutzutage nicht mehr
  wegzudenken\, unterstützen uns in unserem Alltag und in unserer
  Freizeit. Jedoch stellt sich immer die Frage: Wann werden welche Medien
  wie lange benutzt? \n\nDamit wir einen guten Umgang finden\, bitten wir
  um Gottes Segen für unsere Wege auf Social Media. Nehmt euer Handy\,
  Tablet\, Controller… mit. \n\nIm Anschluss laden wir wieder alle
  Mitfeiernden zum Spaghettiplausch und gemütlichen Beisammensein ins
  Pfarreizentrum ein. \n\nKontakt: Pfarreisekretariat\n\nWeitere Infos:
  https://www.kathhorw.ch/veranstaltung/21885
SUMMARY:Familiengottesdienst mit Spaghettiplausch
PRIORITY:5
X-MICROSOFT-CDO-IMPORTANCE:1
CLASS:PUBLIC
END:VEVENT
END:VCALENDAR
