BEGIN:VCALENDAR
PRODID:-//kirchenweb.ch gmbh//veranstaltungsausgabe v2.0//DE
VERSION:2.0
METHOD:PUBLISH
BEGIN:VEVENT
DTSTART:20260426T083000Z
DTEND:20260426T093000Z
LOCATION:Pfarrkirche  St. Katharina\, Zumhofstrasse\, 6048 Horw
TRANSP:OPAQUE
SEQUENCE:0
UID:21883-veranstaltung@kathhorw.ch
DTSTAMP:20260407T073801Z
DESCRIPTION:Jahresgedächtnis für die verstorbenen Priester der Pfarrei:
 \nFerdinand Purtschert\, Etienne Vermeille\, Eugen Widmer\, Albert
  Zimmermann\, August Brändle.\n\n\nKontakt: Pfarreisekretariat\n\nWeitere
  Infos: https://www.kathhorw.ch/veranstaltung/21883
SUMMARY:Gottesdienst
PRIORITY:5
X-MICROSOFT-CDO-IMPORTANCE:1
CLASS:PUBLIC
END:VEVENT
END:VCALENDAR
