BEGIN:VCALENDAR
PRODID:-//kirchenweb.ch gmbh//veranstaltungsausgabe v2.0//DE
VERSION:2.0
METHOD:PUBLISH
BEGIN:VEVENT
DTSTART:20260517T070000Z
DTEND:20260517T080000Z
LOCATION:Bruderklausenkirche Kastanienbaum\, Kastanienbaumstr. 222\, 6047
  Kastanienbaum
TRANSP:OPAQUE
SEQUENCE:0
UID:21841-veranstaltung@kathhorw.ch
DTSTAMP:20260417T154534Z
DESCRIPTION:Jahresgedächtnis für Willy Ritz-Schalbetter\,
  Kastanienbaumstrasse 214\, Kastanienbaum\n\n\nKontakt: Pfarreisekretariat
 \n\nWeitere Infos: https://www.kathhorw.ch/veranstaltung/21841
SUMMARY:Gottesdienst
PRIORITY:5
X-MICROSOFT-CDO-IMPORTANCE:1
CLASS:PUBLIC
END:VEVENT
END:VCALENDAR
