BEGIN:VCALENDAR
PRODID:-//kirchenweb.ch gmbh//veranstaltungsausgabe v2.0//DE
VERSION:2.0
METHOD:PUBLISH
BEGIN:VEVENT
DTSTART:20260510T070000Z
DTEND:20260510T080000Z
LOCATION:Bruderklausenkirche Kastanienbaum\, Kastanienbaumstr. 222\, 6047
  Kastanienbaum
TRANSP:OPAQUE
SEQUENCE:0
UID:21840-veranstaltung@kathhorw.ch
DTSTAMP:20260407T074614Z
DESCRIPTION:Kontakt: Pfarreisekretariat\n\nWeitere Infos:
  https://www.kathhorw.ch/veranstaltung/21840
SUMMARY:Gottesdienst
PRIORITY:5
X-MICROSOFT-CDO-IMPORTANCE:1
CLASS:PUBLIC
END:VEVENT
END:VCALENDAR
