BEGIN:VCALENDAR
PRODID:-//kirchenweb.ch gmbh//veranstaltungsausgabe v2.0//DE
VERSION:2.0
METHOD:PUBLISH
BEGIN:VEVENT
DTSTART:20260412T070000Z
DTEND:20260412T080000Z
LOCATION:Bruderklausenkirche Kastanienbaum\, Kastanienbaumstr. 222\, 6047
  Kastanienbaum
TRANSP:OPAQUE
SEQUENCE:0
UID:21836-veranstaltung@kathhorw.ch
DTSTAMP:20260407T073219Z
DESCRIPTION:Jahresgedächtnis für Marie und Walter Frei-Duss\, Schwanden;
 \nJahresgedächtnis für Peter Studhalter-Frei\, Krienserstrasse 27;
 \nJahresgedächtnis für Andreas Studhalter\, Sarnen.\nJahrzeit für Josef
  Limacher-Lampart\, Gemeindehausplatz 12.\n\n\n\nKontakt:
  Pfarreisekretariat\n\nWeitere Infos:
  https://www.kathhorw.ch/veranstaltung/21836
SUMMARY:Gottesdienst
PRIORITY:5
X-MICROSOFT-CDO-IMPORTANCE:1
CLASS:PUBLIC
END:VEVENT
END:VCALENDAR
