BEGIN:VCALENDAR
PRODID:-//kirchenweb.ch gmbh//veranstaltungsausgabe v2.0//DE
VERSION:2.0
METHOD:PUBLISH
BEGIN:VEVENT
DTSTART:20260530T150000Z
DTEND:20260530T160000Z
LOCATION:Bruderklausenkirche Kastanienbaum\, \,
TRANSP:OPAQUE
SEQUENCE:0
UID:21796-veranstaltung@kathhorw.ch
DTSTAMP:20260417T154636Z
DESCRIPTION:Jahrzeit für Eduard und Martha Deschwanden-Mathis\,
  Niederrüti\n\n\nKontakt: Pfarreisekretariat\n\nWeitere Infos:
  https://www.kathhorw.ch/veranstaltung/21796
SUMMARY:Gottesdienst
PRIORITY:5
X-MICROSOFT-CDO-IMPORTANCE:1
CLASS:PUBLIC
END:VEVENT
END:VCALENDAR
