BEGIN:VCALENDAR
PRODID:-//kirchenweb.ch gmbh//veranstaltungsausgabe v2.0//DE
VERSION:2.0
METHOD:PUBLISH
BEGIN:VEVENT
DTSTART:20260516T150000Z
DTEND:20260516T160000Z
LOCATION:Pfarrkirche  St. Katharina\, Zumhofstrasse\, 6048 Horw
TRANSP:OPAQUE
SEQUENCE:0
UID:21794-veranstaltung@kathhorw.ch
DTSTAMP:20260417T154408Z
DESCRIPTION:Jahrzeit für Maria und Hans Rickli-Roshardt\, Kirchfeld\n
 \nKontakt: Pfarreisekretariat\n\nWeitere Infos:
  https://www.kathhorw.ch/veranstaltung/21794
SUMMARY:Gottesdienst
PRIORITY:5
X-MICROSOFT-CDO-IMPORTANCE:1
CLASS:PUBLIC
END:VEVENT
END:VCALENDAR
