BEGIN:VCALENDAR
PRODID:-//kirchenweb.ch gmbh//veranstaltungsausgabe v2.0//DE
VERSION:2.0
METHOD:PUBLISH
BEGIN:VEVENT
DTSTART:20260425T150000Z
DTEND:20260425T160000Z
LOCATION:Pfarrkirche  St. Katharina\, Zumhofstrasse\, 6048 Horw
TRANSP:OPAQUE
SEQUENCE:0
UID:21791-veranstaltung@kathhorw.ch
DTSTAMP:20260407T073834Z
DESCRIPTION:Dreissigster für Franz Xaver Rösli\, Würzenbachstrasse 60\,
  Luzern;\nDreissigster für Arnold (Noldi) Bucheli-Häcki\, Bachstrasse
  6b.\nJahrzeit für Fridolin und Katharina Bienz-Sigrist und Familie\,
  Oberwil;\nJahrzeit für Franz und Franziska Furrer-Frühwirth\,
  Seeblickstrasse 5 und Alfred und Marie Furrer-Zihlmann und Familie\,
  ehemals Wärterhaus und Alfred Furrer-Dörig\, Luzern und Walter
  Furrer-Meier\, Wegmattstrasse 26.\n\n\nKontakt: Pfarreisekretariat\n
 \nWeitere Infos: https://www.kathhorw.ch/veranstaltung/21791
SUMMARY:Gottesdienst
PRIORITY:5
X-MICROSOFT-CDO-IMPORTANCE:1
CLASS:PUBLIC
END:VEVENT
END:VCALENDAR
