BEGIN:VCALENDAR
PRODID:-//kirchenweb.ch gmbh//veranstaltungsausgabe v2.0//DE
VERSION:2.0
METHOD:PUBLISH
BEGIN:VEVENT
DTSTART:20260404T190000Z
DTEND:20260404T203000Z
LOCATION:Pfarrkirche  St. Katharina\, Zumhofstrasse\, 6048 Horw
TRANSP:OPAQUE
SEQUENCE:0
UID:21789-veranstaltung@kathhorw.ch
DTSTAMP:20260331T055506Z
DESCRIPTION:Oster-Triduum - die heiligen drei Tage\n\nDas Triduum beginnt
  am Gründonnerstag mit der Abendmesse vom letzten Abendmahl\, erreicht
  seinen Höhepunkt am Freitag mit der Feier der Passion Christi und endet
  mit der Vesper am Ostersonntag (Osternacht am Samstag).\n\nEs ist ein
  Triduum der Passion und Auferstehung\, das das gesamte Ostergeheimnis
  umfasst.\n\nChristus erlöste die Menschheit und verherrlichte Gott
  vollkommen vor allem durch sein Ostergeheimnis: Durch seinen Tod besiegte
  er den Tod\, und durch seine Auferstehung schenkte er uns das Leben. Das
  Oster-Triduum von Christi Leiden und Auferstehung bildet somit den
  Höhepunkt des gesamten Kirchenjahres.\n\nDie Osteroktav\nDie Osteroktav
  bezeichnet die acht Tage von Ostersonntag bis zum darauffolgenden
  Sonntag\, dem Weissen Sonntag (auch Sonntag der Barmherzigkeit genannt).
 \n\nWichtige Fakten zur Feier\nBedeutung: In der katholischen Liturgie
  gelten diese acht Tage als ein einziger grosser Festtag. Jeder Tag der
  Oktav hat den Rang eines Hochfestes\, der höchsten Stufe im Kirchenjahr.
 \n\nHerkunft des Namens \nDer Begriff stammt vom lateinischen dies octava
  („achter Tag“). Historisch trugen die in der Osternacht Getauften die
  ganze Woche über ihre weissen Gewänder\, die sie erst am achten Tag
  ablegten – daher der Name Weisser Sonntag.\n\nLiturgie \nIn dieser
  Woche werden die Berichte über die Erscheinungen des auferstandenen
  Jesus vor seinen Jüngern gelesen. Die liturgische Farbe ist Weiss.\n\n
 \nKontakt: Pfarreisekretariat\n\nWeitere Infos:
  https://www.kathhorw.ch/veranstaltung/21789
SUMMARY:Gottesdienst - Osternachtsliturgie
PRIORITY:5
X-MICROSOFT-CDO-IMPORTANCE:1
CLASS:PUBLIC
END:VEVENT
END:VCALENDAR
