BEGIN:VCALENDAR
PRODID:-//kirchenweb.ch gmbh//veranstaltungsausgabe v2.0//DE
VERSION:2.0
METHOD:PUBLISH
BEGIN:VEVENT
DTSTART:20260504T113000Z
DTEND:20260504T140000Z
LOCATION:Pfarreizentrum\, Zumhofstr. 2\, 6048 Horw
TRANSP:OPAQUE
SEQUENCE:0
UID:21169-veranstaltung@kathhorw.ch
DTSTAMP:20260402T133617Z
DESCRIPTION:Kontakt: kg.amt@kathhorw.ch\n\nWeitere Infos:
  https://www.kathhorw.ch/veranstaltung/21169
SUMMARY:Frauengemeinschaft - Strick-Café
PRIORITY:5
X-MICROSOFT-CDO-IMPORTANCE:1
CLASS:PUBLIC
END:VEVENT
END:VCALENDAR
