BEGIN:VCALENDAR
PRODID:-//kirchenweb.ch gmbh//veranstaltungsausgabe v2.0//DE
VERSION:2.0
METHOD:PUBLISH
BEGIN:VEVENT
DTSTART:20260403T140000Z
DTEND:20260403T150000Z
LOCATION:Kirchfeld Altersheim Horw\, \,
TRANSP:OPAQUE
SEQUENCE:0
UID:21007-veranstaltung@kathhorw.ch
DTSTAMP:20260219T112450Z
DESCRIPTION:Kontakt: info.kathhorw.ch\n\nWeitere Infos:
  https://www.kathhorw.ch/veranstaltung/21007
SUMMARY:Kirchfeld - Karfreitags-Liturgie
PRIORITY:5
X-MICROSOFT-CDO-IMPORTANCE:1
CLASS:PUBLIC
END:VEVENT
END:VCALENDAR
