BEGIN:VCALENDAR
PRODID:-//kirchenweb.ch gmbh//veranstaltungsausgabe v2.0//DE
VERSION:2.0
METHOD:PUBLISH
BEGIN:VEVENT
DTSTART:20260508T170000Z
DTEND:20260508T200000Z
LOCATION:Pfarreizentrum\, Zumhofstr. 2\, 6048 Horw
TRANSP:OPAQUE
SEQUENCE:0
UID:20945-veranstaltung@kathhorw.ch
DTSTAMP:20260305T153114Z
DESCRIPTION:An ausgewählten Freitagabenden gestalten die Jugendlichen im
  Pfarreizentrum Filmabende. Sie suchen sich coole Filme aus\, besorgen
  leckere Snacks für alle und denken sich lustige Spiele aus als Abschluss
  der gemeinsamen Abende.\n\nKontakt: roland.caamano\n\nWeitere Infos:
  https://www.kathhorw.ch/veranstaltung/20945
SUMMARY:Avanti Cinema
PRIORITY:5
X-MICROSOFT-CDO-IMPORTANCE:1
CLASS:PUBLIC
END:VEVENT
END:VCALENDAR
