BEGIN:VCALENDAR
PRODID:-//kirchenweb.ch gmbh//veranstaltungsausgabe v2.0//DE
VERSION:2.0
METHOD:PUBLISH
BEGIN:VEVENT
DTSTART:20260527T101500Z
DTEND:20260527T130000Z
LOCATION:Pfarreizentrum\, Zumhofstr. 2\, 6048 Horw
TRANSP:OPAQUE
SEQUENCE:0
UID:20883-veranstaltung@kathhorw.ch
DTSTAMP:20260305T154413Z
DESCRIPTION:Kontakt: Fabienne Zemp\n\nWeitere Infos:
  https://www.kathhorw.ch/veranstaltung/20883
SUMMARY:Fit mit RU 5. Klassprojekt
PRIORITY:5
X-MICROSOFT-CDO-IMPORTANCE:1
CLASS:PUBLIC
END:VEVENT
END:VCALENDAR
