BEGIN:VCALENDAR
PRODID:-//kirchenweb.ch gmbh//veranstaltungsausgabe v2.0//DE
VERSION:2.0
METHOD:PUBLISH
BEGIN:VEVENT
DTSTART:20260411T150000Z
DTEND:20260411T160000Z
LOCATION:Pfarrkirche  St. Katharina\, Zumhofstrasse\, 6048 Horw
TRANSP:OPAQUE
SEQUENCE:0
UID:20681-veranstaltung@kathhorw.ch
DTSTAMP:20260219T110720Z
DESCRIPTION:Kontakt: info.kathhorw.ch\n\nWeitere Infos:
  https://www.kathhorw.ch/veranstaltung/20681
SUMMARY:Kein Gottesdienst
PRIORITY:5
X-MICROSOFT-CDO-IMPORTANCE:1
CLASS:PUBLIC
END:VEVENT
END:VCALENDAR
