BEGIN:VCALENDAR
PRODID:-//kirchenweb.ch gmbh//veranstaltungsausgabe v2.0//DE
VERSION:2.0
METHOD:PUBLISH
BEGIN:VEVENT
DTSTART:20260403T130000Z
DTEND:20260403T140000Z
LOCATION:Pfarrkirche  St. Katharina\, Zumhofstrasse\, 6048 Horw
TRANSP:OPAQUE
SEQUENCE:0
UID:20352-veranstaltung@kathhorw.ch
DTSTAMP:20260330T080446Z
DESCRIPTION:Um 15.00 feiern wir zusammen die Karfreitags-Liturgie mit
  Kreuzverehrung.\nHerzlich willkommen.\n\nKontakt: info.kathhorw.ch\n
 \nWeitere Infos: https://www.kathhorw.ch/veranstaltung/20352
SUMMARY:Karfreitags-Liturgie
PRIORITY:5
X-MICROSOFT-CDO-IMPORTANCE:1
CLASS:PUBLIC
END:VEVENT
END:VCALENDAR
